BEGIN:VCALENDAR
VERSION:2.0
PRODID:-//Smoke Rings Sisters - ECPv6.15.20//NONSGML v1.0//EN
CALSCALE:GREGORIAN
METHOD:PUBLISH
X-WR-CALNAME:Smoke Rings Sisters
X-ORIGINAL-URL:https://www.smokeringssisters.se
X-WR-CALDESC:Händelser för Smoke Rings Sisters
REFRESH-INTERVAL;VALUE=DURATION:PT1H
X-Robots-Tag:noindex
X-PUBLISHED-TTL:PT1H
BEGIN:VTIMEZONE
TZID:UTC
BEGIN:STANDARD
TZOFFSETFROM:+0000
TZOFFSETTO:+0000
TZNAME:UTC
DTSTART:20140101T000000
END:STANDARD
END:VTIMEZONE
BEGIN:VEVENT
DTSTART;TZID=UTC:20180320T140000
DTEND;TZID=UTC:20180320T160000
DTSTAMP:20260424T175019
CREATED:20161109T150418Z
LAST-MODIFIED:20180220T193937Z
UID:1820-1521554400-1521561600@www.smokeringssisters.se
SUMMARY:Göteborg: Lunchkonsert på Casino Cosmopol
DESCRIPTION:På Casino Cosmopol i Göteborg bjuder vi för fjärde gången in till lunchkonsert!  \nSMOKE RINGS SISTERS\nSmoke Rings Sisters\nTillsammans med pianisten Göran Åhlfeldt tar sig trion an Povel Ramels mest kända låtar\, men även mindre kända guldkorn som visar en annan sida av Povel än vi är vana vid. \nMed en stor portion humor och musikalitet blir detta en Povel-stund att minnas! \nTID: Kl 14.00 Vi startar med lunch och därefter följer scenunderhållningen. kl 15:00. \nPRIS: 245 kr. I priset ingår entré/garderob\, lunch och underhållning. \nMENY: Dagens rätt inkl. sallad\, hembakat bröd\, måltidsdryck och kaffe/te. \nBOKNING: Boka på 020-219 219 eller skicka en förfrågan till BOKAGOTEBORG@CASINOCOSMOPOL.SE. All bokning sker i mån om plats.  \n 
URL:https://www.smokeringssisters.se/event/goteborg-lunchkonsert-povel-ramel-karameller/
LOCATION:Casino Cosmopol Göteborg\, Packhusplatsen 7\, Göteborg\, 41113\, Sverige
CATEGORIES:Konsert,Restaurang
ORGANIZER;CN="Casino Cosmopol G%C3%B6teborg":MAILTO:BOKAGOTEBORG@CASINOCOSMOPOL.SE
END:VEVENT
BEGIN:VEVENT
DTSTART;TZID=UTC:20171216T190000
DTEND;TZID=UTC:20171216T213000
DTSTAMP:20260424T175019
CREATED:20170511T202540Z
LAST-MODIFIED:20170511T202540Z
UID:2080-1513450800-1513459800@www.smokeringssisters.se
SUMMARY:Vara: Vara konserthus - A swingin´ Christmas
DESCRIPTION:A SWINGIN’ CHRISTMAS\nSmoke Rings Sisters\, Andreas Glans och The Dixie Dan Band \nEn julkonsert med extra allt och med gästartisten Andreas Glans. Tänk dig det allra bästa av både den svenska och amerikanska julrepertoaren från jazzens och swingens guldår\, i trestämmiga arrangemang á la The Andrews Sisters och med ett par av Västsveriges absolut bästa musiker i form av The Dixie Dan Band. Där har du ”A swingin´ Christmas”! \nSmoke Rings Sisters bjuder på älskade klassiker såsom “Christmas Song”\, “O helga natt”\, “Jingle Bells” och “Jul\, jul\, strålande jul” men även på en hel del skruvade versioner. Hur låter egentligen “Tänd ett ljus” i bossa nova-rytm\, och kan “Vår julskinka har rymt” verkligen sjungas som en sensuell blues? \nMusikalisk julstämning när den är som allra bäst! \nhttp://www.varakonserthus.se/biljetter/flexpaket/a-swingin-christmas
URL:https://www.smokeringssisters.se/event/vara-vara-konserthus-a-swingin-christmas/
CATEGORIES:Konsert
END:VEVENT
BEGIN:VEVENT
DTSTART;TZID=UTC:20171115T190000
DTEND;TZID=UTC:20171115T210000
DTSTAMP:20260424T175019
CREATED:20170511T201244Z
LAST-MODIFIED:20170511T201356Z
UID:2073-1510772400-1510779600@www.smokeringssisters.se
SUMMARY:Malmö: Sweden Swings på Victoriateatern
DESCRIPTION:För fjärde gången kommer trion tillbaka till underbara Victoriateatern!  \nDenna gång bjuder de på fullängdsversionen av sitt program ”Sweden Swings” – ett hyllningsprogram till våra mest älskade svenska artister och kompositörer! \nTillsammans med Smoke Rings Sisters och The Dixie Dan Band får du spänna säkerhetsbältet och resa tillbaka till ett sprudlande Sverige som fick njuta av jazz\, swing och boogie woogies tack vare legendarer som Monica Zetterlund\, Alice Babs\, Povel Ramel\, Sonya Hedenbratt och många fler! Kärleken till dessa musikanter är stor och trion plockar de allra bästa pärlorna ur guldåren 1930-1960 i tidsenliga kläder och mikrofoner och med fantastisk stämsång lyfter de det musikaliska taket. \nMen kanske\, kanske dyker lite modernare artister som Håkan Hellström\, Miriam Bryant och Ace of Base upp\, man vet aldrig när Smoke Rings Sisters är i farten… 
URL:https://www.smokeringssisters.se/event/malmo-sweden-swings-pa-victoriateatern/
LOCATION:Victoriateatern\, Malmö
CATEGORIES:Konsert
END:VEVENT
BEGIN:VEVENT
DTSTART;TZID=UTC:20170724T190000
DTEND;TZID=UTC:20170724T200000
DTSTAMP:20260424T175019
CREATED:20170511T195356Z
LAST-MODIFIED:20170511T195420Z
UID:2065-1500922800-1500926400@www.smokeringssisters.se
SUMMARY:Forsvik: Sweden Swings - Gjuteriet Forsviks bruk
DESCRIPTION:Smoke Rings Sisters och ”Sweden swings” kommer till Forsviks bruk och dess Gjuteri den 24 juli!  \n  \nLäs mer om konserten och hur du skaffar biljetter här: https://musikiforsvik.wordpress.com/program-2/ \nVälkomna!
URL:https://www.smokeringssisters.se/event/forsvik-sweden-swings-gjuteriet-forsviks-bruk/
CATEGORIES:Konsert,Uppträdande
END:VEVENT
BEGIN:VEVENT
DTSTART;TZID=UTC:20170711T190000
DTEND;TZID=UTC:20170711T194500
DTSTAMP:20260424T175019
CREATED:20170511T200801Z
LAST-MODIFIED:20170511T200801Z
UID:2068-1499799600-1499802300@www.smokeringssisters.se
SUMMARY:Lund: Sommarlund - Sweden Swings
DESCRIPTION:Smoke Rings Sisters kommer till Lund\, eller närmare bestämt Sommarlund med sin kortversion av Sweden Swings.  \nPlats: Kulturen (Tegnérplatsen 223 50 Lund) \nLängd: 45 minuter \nPianist: Göran Åhlfeldt \nKontrabasist: Martin Olsson  \n  \n 
URL:https://www.smokeringssisters.se/event/lund-sommarlund-sweden-swings/
LOCATION:Kulturen\, Tegnérplatsen 223 50 Lund\, Lund
CATEGORIES:Konsert,Uppträdande
END:VEVENT
BEGIN:VEVENT
DTSTART;TZID=UTC:20170304T160000
DTEND;TZID=UTC:20170304T180000
DTSTAMP:20260424T175019
CREATED:20161109T142025Z
LAST-MODIFIED:20170114T174155Z
UID:1807-1488643200-1488650400@www.smokeringssisters.se
SUMMARY:Borås: Povel Ramel-karameller
DESCRIPTION:POVEL RAMEL-KARAMELLER – Konsert 2 av 2:  \n\nVar är egentligen tvålen? Har alla varit små? Och måste man verkligen ta av sig skorna? \nEtt urval från Povel Ramels repertoarskafferi med mycket humor\, värme och musikalitet! Tillsammans med estradören Jan Hjalmarsson och professionella musiker tar sig Smoke Rings Sisters\, Jan Hjalmarsson\, Tina Rhen-Wikström\, pianist Göran Åhlfeldt och kören Notknäckarna an Povels mest kända och älskade låtar. Men där finns också mindre kända guldkorn som visar helt andra sidor av Povel. Det blir också många skratt i form av ett par av Povels klassiska sketcher! \n\nBiljetter: Maila Anders Jansson på anders@rmjcollection.se. Ange ditt namn och ditt telefonnummer och din postadress samt vilket datum du vill gå. Han svarar snarast möjligt och talar om hur du betalar och hur du får dina biljetter.  \nDet är numrerade platser och biljetterna säljes enbart på detta sätt! \n OBS! Denna konsert körs både på fredagen och lördagen!
URL:https://www.smokeringssisters.se/event/boras-povel-ramel-karameller/
LOCATION:Sagateatern\, Borås
CATEGORIES:Konsert,Publikt event
END:VEVENT
BEGIN:VEVENT
DTSTART;TZID=UTC:20170303T190000
DTEND;TZID=UTC:20170303T210000
DTSTAMP:20260424T175019
CREATED:20161109T142319Z
LAST-MODIFIED:20170114T174220Z
UID:1814-1488567600-1488574800@www.smokeringssisters.se
SUMMARY:Borås: Povel Ramel-karameller
DESCRIPTION:POVEL RAMEL-KARAMELLER – Konsert 1 av 2:  \n\nVar är egentligen tvålen? Har alla varit små? Och måste man verkligen ta av sig skorna? \nEtt urval från Povel Ramels repertoarskafferi med mycket humor\, värme och musikalitet! Tillsammans med estradören Jan Hjalmarsson och professionella musiker tar sig Smoke Rings Sisters\, Jan Hjalmarsson\, Tina Rhen-Wikström\, pianist Göran Åhlfeldt och kören Notknäckarna an Povels mest kända och älskade låtar. Men där finns också mindre kända guldkorn som visar helt andra sidor av Povel. Det blir också många skratt i form av ett par av Povels klassiska sketcher! \n\nBiljetter:  \nMaila Anders Jansson på anders@rmjcollection.se. Ange ditt namn och ditt telefonnummer och din postadress samt vilket datum du vill gå. Han svarar snarast möjligt och talar om hur du betalar och hur du får dina biljetter.  \nDet är numrerade platser och biljetterna säljes enbart på detta sätt! \n OBS! Denna konsert körs både på fredagen och lördagen!
URL:https://www.smokeringssisters.se/event/boras-povel-ramel-karameller-2/
LOCATION:Sagateatern\, Borås
CATEGORIES:Konsert,Publikt event
END:VEVENT
BEGIN:VEVENT
DTSTART;TZID=UTC:20170224T193000
DTEND;TZID=UTC:20170224T213000
DTSTAMP:20260424T175019
CREATED:20161109T151021Z
LAST-MODIFIED:20161110T130943Z
UID:1823-1487964600-1487971800@www.smokeringssisters.se
SUMMARY:Malmö: Victoriateatern - Povel Ramel-karameller
DESCRIPTION:POVEL RAMEL-KARAMELLERVar är egentligen tvålen? Har alla varit små? Och måste man verkligen ta av sig skorna? Ett urval från Povel Ramels repertoarskafferi med mycket humor\, värme och musikalitet!  Tillsammans med estradören Jan Hjalmarsson och musiker tar sig Smoke Rings Sisters an Povels mest kända låtar med sitt trestämmiga sound\, men där finns också mindre kända guldkorn som visar helt andra sidor av Povel än vi är vana vid. Det blir självklart också ett par av Povels klassiska sketcher! Smoke Rings Sisters är swing och jazztrion som gått från klarhet till klarhet\, och detta blir deras tredje besök på Victoriateatern i Malmö. De bildades 2011 för att göra en enda konsert. Men det blev många fler tack vare fin personkemi\, röstklanger och den gemensamma passionen för jazz och swingeran. \nIdag är tjejerna ett fullgående swing\, jazz\, evergreens och boogie woogietåg som bokas i alla möjliga sammanhang\, i hela Sverige! Nu senast gjorde de succé på Sagateatern i Borås med musikalen “Sugar – I hetaste laget” där även Jan Hjalmarsson var producent och spelade med\, som den excentriske miljonären “Osgood Fielding”. Visionen är att skapa en sprakande helhetsupplevelse med alltifrån den fantastiska musiken till det rent visuella med moderiktiga\, tidsenliga kläder och mikrofoner. De vill vara en sann tidskapsel för sin publik\, och deras Povel-program är inget undantag! \n\n \nMedverkande musiker är:\n \nPiano och kapellmästare: Göran Åhlfeldt\nBas: Viktor Turegård\nTrummor: Torbjörn Lidh\n \nBILJETTER KÖPES PÅ http://www.kulturcentralen.nu/evenemang/smoke-rings-sisters-povel/boka/27281\n \n\n 
URL:https://www.smokeringssisters.se/event/malmo-victoriateatern-povel-ramel-karameller/
LOCATION:Victoriateatern\, Malmö
CATEGORIES:Konsert
END:VEVENT
BEGIN:VEVENT
DTSTART;TZID=UTC:20170204T170000
DTEND;TZID=UTC:20170204T230000
DTSTAMP:20260424T175019
CREATED:20161109T140957Z
LAST-MODIFIED:20161109T140957Z
UID:1799-1486227600-1486249200@www.smokeringssisters.se
SUMMARY:Strömstad: Gatsbykväll "The roaring 20´s at Laholmen Hotell"
DESCRIPTION:Smoke Rings Sisters gör det igen!  \nA LITTLE PARTY NEVER KILLED NOBODY!\nSo drink champagne and dance on the table. \nVälkommen på vår resa till glada och galna 20 talet.\n”The roaring 20:s” intar Laholmen \nLÖRDAG 4 FEBRUARI. \nPROGRAM:\n– 17.00-18.30:\nDanskurs i Charleston i loungen med Lindy Deluxe.\nGratis i mån av plats!\nKom och var med eller bara se på. \n– 18.30-22.00 +24.00-01.00:\nPianobar med CMCmusic och gästartist i loungen. \n– 19.00-21.00:\nChampagne och trerättersmiddag i restaurangen med inspiration av 20-talet. 395 SEK\nBoka bord! \n– 22.00-24.00\nLIVE på scen i loungen: Smoke rings sisters and the Dixie Dan band. Dansa och lyssna på jazz\, swing\, lindyhop och Charlestone.\nDansuppvisning med LindyDeluxe i Lindyhop och Charlestone. \n– 24.00-03.00:\nOxygen nattklubb med DJ Kangasoja blandar electroswing\, swingbeats och moderna hits. \nHotellpaket finns för alla som önskar övernattning:\nDel i dubbelrum\, champagne\, trerättersmiddag\, dans\, underhållning och frukostbuffé – från 1195 SEK.\nBoka på booking@laholmen.se eller +46-(0)526-19700. \n”Please dress in your finest attire” \n  \n 
URL:https://www.smokeringssisters.se/event/stromstad-gatsbykvall-the-roaring-20s-at-laholmen-hotell/
LOCATION:Strömstad\, Strömstad\, 452 30  \, Sverige
CATEGORIES:Publikt event
END:VEVENT
BEGIN:VEVENT
DTSTART;TZID=UTC:20170105T190000
DTEND;TZID=UTC:20170105T230000
DTSTAMP:20260424T175019
CREATED:20161109T143920Z
LAST-MODIFIED:20161109T145721Z
UID:1817-1483642800-1483657200@www.smokeringssisters.se
SUMMARY:Göteborg: Trettondagsbal på Göteborgsoperan
DESCRIPTION:Vi är stolta att för tredje året i rad få stå på Göteborgsoperans fantastiska scen tillsammans med Stardust Big Swing Band!  \nhttp://sv.opera.se/forestallningar/trettondagskonsert-med-bal-2017-2016-2017/ \n 
URL:https://www.smokeringssisters.se/event/goteborg-trettondagsbal-pa-goteborgsoperan/
LOCATION:Göteborgsoperan\, Christina Nilssons Gata\, Göteborg\, 411 04\, Sverige
CATEGORIES:Konsert,Publikt event
END:VEVENT
BEGIN:VEVENT
DTSTART;TZID=UTC:20161127T170000
DTEND;TZID=UTC:20161127T200000
DTSTAMP:20260424T175019
CREATED:20160809T165041Z
LAST-MODIFIED:20161025T092904Z
UID:1746-1480266000-1480276800@www.smokeringssisters.se
SUMMARY:Ale: Julkonsert med Magnus Bäcklund\, "A swingin´Christmas"
DESCRIPTION:Återigen får vi jobba tillsammans med grymma Magnus Bäcklund! Nu gör vi julkonserten ”A swingin´ Christmas” (läs och lyssna mer på http://www.smokeringssisters.se/?page_id=163) \nSjälvklart finns The Dixie Dan Band på plats på scen! \nBiljetter finns på https://www.nortic.se/tickets/event/11959 \n \n 
URL:https://www.smokeringssisters.se/event/ale-julkonsert-med-magnus-backlund-a-swinginchristmas/
LOCATION:Teatern\, Ale Kulturrum\, Vitklövergatan 1\, Nödinge\, 44931\, Sweden
CATEGORIES:Konsert
END:VEVENT
BEGIN:VEVENT
DTSTART;TZID=UTC:20161126T120000
DTEND;TZID=UTC:20161126T150000
DTSTAMP:20260424T175019
CREATED:20161109T141454Z
LAST-MODIFIED:20161122T141104Z
UID:1803-1480161600-1480172400@www.smokeringssisters.se
SUMMARY:Göteborg: Zetterberg Couture
DESCRIPTION:Välkomna in på glögg och julmys på Zetterberg Couture!  \nUnder dagen mellan kl 12-15 kan du fynda bland fantastiska kreationer och samtidigt lyssna till tonerna av Smoke Rings Sisters!  \n  \n  \n 
URL:https://www.smokeringssisters.se/event/goteborg-zetterberg-couture/
CATEGORIES:Publikt event
END:VEVENT
BEGIN:VEVENT
DTSTART;TZID=UTC:20160910T180000
DTEND;TZID=UTC:20160910T230000
DTSTAMP:20260424T175019
CREATED:20160809T164052Z
LAST-MODIFIED:20160809T164052Z
UID:1744-1473530400-1473548400@www.smokeringssisters.se
SUMMARY:Göteborg: Casino Cosmopol
DESCRIPTION:Kväll 2/2! \nEtt par kortare framträdanden mellan 18-23 under kvällen i Las Vegas tecken!\nInvigning av nytt tärningsspel ”Rocket Seven”!
URL:https://www.smokeringssisters.se/event/goteborg-casino-cosmopol-2/
LOCATION:Casino Cosmopol\, Göteborg
CATEGORIES:Uppträdande
ORGANIZER;CN="Casino Cosmopol G%C3%B6teborg":MAILTO:BOKAGOTEBORG@CASINOCOSMOPOL.SE
END:VEVENT
BEGIN:VEVENT
DTSTART;TZID=UTC:20160909T180000
DTEND;TZID=UTC:20160909T230000
DTSTAMP:20260424T175019
CREATED:20160809T163550Z
LAST-MODIFIED:20160809T164121Z
UID:1741-1473444000-1473462000@www.smokeringssisters.se
SUMMARY:Göteborg: Casino Cosmopol
DESCRIPTION:Kväll 1/2. \nEtt par kortare framträdanden mellan 18-23 under kvällen i Las Vegas tecken!\nInvigning av nytt tärningsspel ”Rocket Seven”!
URL:https://www.smokeringssisters.se/event/goteborg-casino-cosmopol/
LOCATION:Casino Cosmopol\, Göteborg
CATEGORIES:Uppträdande
END:VEVENT
BEGIN:VEVENT
DTSTART;TZID=UTC:20160818T134500
DTEND;TZID=UTC:20160818T184500
DTSTAMP:20260424T175019
CREATED:20160616T163317Z
LAST-MODIFIED:20160803T144314Z
UID:1721-1471527900-1471545900@www.smokeringssisters.se
SUMMARY:Göteborg: Kulturkalaset 2016
DESCRIPTION:År 2021 firar Göteborg 400 år som stad\, men vi förfestar redan nu! Tillsammans med Göteborg 2021 har vi något speciellt i beredskap åt er! \nDet nya 2020-talet möter 1920-talet i en crossover mellan jazz och modern musik. Utanför Storan håller Göteborg 2021 till\, och där sjunger Smoke Rings Sisters i läcker trestämmig Andrews Sisters-stil både klassiska och nya hits av våra kära Göteborgsartister (Håkan Hellström\, Sonya Hedenbratt\, Miriam Bryant m.fl) i swingtappning! Vi kallar programmet ”Göteborgspärlor: Swing it från Hedenbratt till Hellström” \nSRS dyker upp utanför Storan under Kulturkalaset i ett par omgångar tillsammans med musikerna Teresa Indebetou\, Martin Olsson och Martin Svanström.  \nTider: 13:45\, 15:30\, 18:45 (ca 15 minuter åt gången\, samma program varje gång) \nVälkomna!  \nhttp://goteborgskulturkalas.se/program/4333-smoke-rings-sisters \nSmoke Rings Sisters
URL:https://www.smokeringssisters.se/event/goteborg-kulturkalaset-2016/
LOCATION:Storans uteplats\, Göteborg\, Sverige
CATEGORIES:Publikt event
END:VEVENT
BEGIN:VEVENT
DTSTART;TZID=UTC:20160607T190000
DTEND;TZID=UTC:20160607T210000
DTSTAMP:20260424T175019
CREATED:20160422T160420Z
LAST-MODIFIED:20160422T160457Z
UID:1710-1465326000-1465333200@www.smokeringssisters.se
SUMMARY:Göteborg: Flunsåsparken\, "Sweden swings" och så lite Povel Ramel
DESCRIPTION:Återigen entrar vi Flunsåsparkens scen tillsammans md Dan Lindéns orkester och kör en massa härliga jazziga och svängiga hits från vårt eget avlånga land! \nNi möter Sonya\, Alice\, Povel\, Monica\, Zarah\, Siwan och alla de andra som knappast behöver någon närmare presentation – vi känner våra älskade artister alltför väl!  \nVarmt välkomna\, det är fri entré!  \nTid: Kl 19-21\nPlats: Flunsåsparken\nPris: Fri entré
URL:https://www.smokeringssisters.se/event/goteborg-flunsasparken-sweden-swings-och-sa-lite-povel-ramel/
LOCATION:Flunsåsparken\, Göteborg
CATEGORIES:Konsert,Publikt event,Uppträdande
END:VEVENT
BEGIN:VEVENT
DTSTART;TZID=UTC:20160526T170000
DTEND;TZID=UTC:20160526T230000
DTSTAMP:20260424T175019
CREATED:20160509T091215Z
LAST-MODIFIED:20160509T091215Z
UID:1712-1464282000-1464303600@www.smokeringssisters.se
SUMMARY:Göteborg: Time for life - en kväll för Barncancerfonden!
DESCRIPTION:EN KVÄLL FÖR BARNCANCERFONDEN!\nEtt fantastiskt event vi ska vara med på den 26 maj i Göteborg. Via Team Rynkeby Göteborg organiseras en kväll ute på nya Lindholmen event och nöjen för att samla in pengar till Barncancerfonden. En salig blandning av artister och en späckad kväll! Allt arbete görs ideellt – och det är bara DU och dina vänner som fattas. Köp biljetter här (en deli-tallrik med godsaker ingår dessutom i biljettpriset): http://timeforlife.doppio.se
URL:https://www.smokeringssisters.se/event/goteborg-time-for-life-en-kvall-for-barncancerfonden/
LOCATION:Lindholmen event: I Götaverkets gamla varvsmagasin på Lindholmen\, Göteborg
CATEGORIES:Publikt event
END:VEVENT
BEGIN:VEVENT
DTSTART;TZID=UTC:20160517T130000
DTEND;TZID=UTC:20160517T150000
DTSTAMP:20260424T175019
CREATED:20151027T133054Z
LAST-MODIFIED:20160208T100235Z
UID:1412-1463490000-1463497200@www.smokeringssisters.se
SUMMARY:Göteborg\, lunchkonsert : "Sweden swings!"
DESCRIPTION:Njut av en vällagad lunch på Casino Cosmopol i Göteborg och avsluta med en härlig lunchkonsert! \nTillsammans med Smoke Rings Sisters får du spänna säkerhetsbältet och resa tillbaka till ett sprudlande Sverige som fick njuta av jazz\, swing och boogie woogies tack vare legendarer som Monica Zetterlund\, Alice Babs\, Povel Ramel\, Owe Thörnqvist\, Sonya Hedenbratt och många fler! Kärleken till dessa är stor och trion plockar de allra bästa pärlorna ur guldåren 1940-1960 i tidsenliga kläder och mikrofoner och med fantastisk stämsång lyfter de det musikaliska taket. \nPRIS: 225 kr.\nIngår: Entré/garderob\, lunch och underhållning \nVälkomna!
URL:https://www.smokeringssisters.se/event/lunchkonsert-goteborg-sweden-swings/
LOCATION:Casino Cosmopol Göteborg\, Packhusplatsen 7\, Göteborg\, 41113\, Sverige
CATEGORIES:Konsert
ORGANIZER;CN="Casino Cosmopol G%C3%B6teborg":MAILTO:BOKAGOTEBORG@CASINOCOSMOPOL.SE
END:VEVENT
BEGIN:VEVENT
DTSTART;TZID=UTC:20160424T160000
DTEND;TZID=UTC:20160424T173000
DTSTAMP:20260424T175019
CREATED:20160227T155104Z
LAST-MODIFIED:20160228T105103Z
UID:1656-1461513600-1461519000@www.smokeringssisters.se
SUMMARY:Borås: Café Ramel - en Povel Ramel-hyllning
DESCRIPTION:Jan Hjalmarsson\, Tina Rehn-Wikström\, Smoke Rings Sisters och pianisten Göran Åhlfeldt bjuder på en Povel Ramel-kavalkad med mycket humor\, musikalitet och värme vid minst fyra tillfällen i vår (se kalender) \nDet blir en underbar kväll med låtar från Povel Ramels repertoarskafferi\, med mycket humor\, värme och musikalitet men också sidor av Povel som man kanske aldrig hört.  \nVarmt välkomna!  \nBiljetter bokas via Anders Jansson\, alias Nöjesdoktorn\, på e-post anders@rmjcollection.se eller telefon 0703-243903. (Kaffe med dopp ingår i biljettpriset)
URL:https://www.smokeringssisters.se/event/boras-cafe-ramel-en-povel-ramel-hyllning/
LOCATION:Café Lönnen\, Kasernvägen 6\, Borås
CATEGORIES:Konsert,Publikt event,Uppträdande
END:VEVENT
BEGIN:VEVENT
DTSTART;TZID=UTC:20160423T160000
DTEND;TZID=UTC:20160423T180000
DTSTAMP:20260424T175019
CREATED:20160113T220431Z
LAST-MODIFIED:20160319T161141Z
UID:1632-1461427200-1461434400@www.smokeringssisters.se
SUMMARY:Ulricehamn: Boge Big Band\, konsert
DESCRIPTION:Stig ombord i en riktig tidskapsel och åk tillbaka till tiden som svängde!\n \nTillsammans med Boge Big Band bjuder de på en sprudlande tidsresa med de bästa sångerna såsom ”Puttin´on the Ritz”\, “ Mack the knife”\, ”Boogie Woogie Bugle Boy”\, ”The Lady is a tramp”\, ”Rum and Coca Cola” och många fler. Ett par av våra svenska stjärnor som Alice Babs och Monica Zetterlund dyker naturligtvis också upp! Med tidsenliga kläder och retromikrofoner kommer du garanterat att tro att tidsmaskinen är uppfunnen och att DU fått åka med! \nPlats: Folkets Hus i Ulricehamn \nTid: 16:00-18:00 med paus \nBiljettpris: 220 kr (barn under 12 år går gratis) \nBiljetter: Nortic.se\, www.folketshusulricehamn.se eller Ulricehamns Turistbyrå 0321-59 59 59
URL:https://www.smokeringssisters.se/event/ulricehamn-boge-big-band-konsert/
LOCATION:Folkets Hus i Ulriceham\, Sverige
CATEGORIES:Konsert
END:VEVENT
BEGIN:VEVENT
DTSTART;TZID=UTC:20160421T190000
DTEND;TZID=UTC:20160421T203000
DTSTAMP:20260424T175019
CREATED:20160227T154327Z
LAST-MODIFIED:20160228T105141Z
UID:1650-1461265200-1461270600@www.smokeringssisters.se
SUMMARY:Borås: Café Ramel- en Povel Ramel-hylling!
DESCRIPTION:Jan Hjalmarsson\, Tina Rehn-Wikström\, Smoke Rings Sisters och pianisten Göran Åhlfeldt bjuder på en Povel Ramel-kavalkad med mycket humor\, musikalitet och värme vid minst fyra tillfällen i vår (se kalender) \nDet blir en underbar kväll med låtar från Povel Ramels repertoarskafferi\, med mycket humor\, värme och musikalitet men också sidor av Povel som man kanske aldrig hört.  \nVarmt välkomna!  \nBiljetter bokas via Anders Jansson\, alias Nöjesdoktorn\, på e-post anders@rmjcollection.se eller telefon 0703-243903. (Kaffe med dopp ingår i biljettpriset)
URL:https://www.smokeringssisters.se/event/boras-cafe-ramel-en-povel-ramelhylling/
LOCATION:Café Lönnen\, Kasernvägen 6\, Borås
CATEGORIES:Konsert,Publikt event,Uppträdande
END:VEVENT
BEGIN:VEVENT
DTSTART;TZID=UTC:20160413T130000
DTEND;TZID=UTC:20160413T150000
DTSTAMP:20260424T175019
CREATED:20151013T152842Z
LAST-MODIFIED:20160208T100253Z
UID:1407-1460552400-1460559600@www.smokeringssisters.se
SUMMARY:Malmö\, lunchkonsert: "Sweden swings!"
DESCRIPTION:Njut av en vällagad lunch på Casino Cosmopol i Malmö och avsluta med en härlig lunchkonsert! \nTillsammans med Smoke Rings Sisters får du spänna säkerhetsbältet och resa tillbaka till ett sprudlande Sverige som fick njuta av jazz\, swing och boogie woogies tack vare legendarer som Monica Zetterlund\, Alice Babs\, Povel Ramel\, Owe Thörnqvist\, Sonya Hedenbratt och många fler! Kärleken till dessa är stor och trion plockar de allra bästa pärlorna ur guldåren 1940-1960 i tidsenliga kläder och mikrofoner och med fantastisk stämsång lyfter de det musikaliska taket. \nPris 250 kr: Varmrätt\, dryck\, kaffe\, kaka\, underhållning och entré. Biljetter köpes på https://billetto.se/sv/onsdag-med-guldkant-sweden-swings eller på telefon 020-219 219. \nVälkomna!
URL:https://www.smokeringssisters.se/event/lunchkonsert-malmo-sweden-swings/
LOCATION:Casino Cosmopol Malmö\, Slottsgatan 33\, Malmö\, 21133\, Sverige
CATEGORIES:Konsert,Publikt event
ORGANIZER;CN="Malm%C3%B6 Casino Cosmopol":MAILTO:BOKAMALMO@CASINOCOSMOPOL.SE
END:VEVENT
BEGIN:VEVENT
DTSTART;TZID=UTC:20160105T190000
DTEND;TZID=UTC:20160106T010000
DTSTAMP:20260424T175019
CREATED:20151117T161244Z
LAST-MODIFIED:20151117T161244Z
UID:1442-1452020400-1452042000@www.smokeringssisters.se
SUMMARY:Trettondagskonsert med bal - Göteborgsoperan med Stardust Big Swing Band\, Göteborg
DESCRIPTION:Förra årets Trettondagsbal på Göteborgsoperan var makalöst fantastisk! NU GÖR VI DET IGEN! \nPå med bästa stassen\, lyssna och njut av en magisk konsert! Ta en kort paus med ett glas champagne och virvla in på stora scenen\, som vid det här laget förvandlats till ett dansgolv\, och dansa loss till tonerna av Wienerkapellet som sedan övergår till ett sprudlande storbandsäventyr med Smoke Rings Sisters\, Erik Gullbransson och Stardust Big Swing Band! Låt svetten lacka och dansgolvet glöda!  \nUtdrag ur Göteborgsopeans beskrivning:\n”Konserten är i år en hyllning till det muntra Wien. Sopranen Carolina Sandgren och tenoren Markus Pettersson charmar dig med opera\, operett och annan wienermusik. Värd är musikalartisten Lars Hjertner\, som du denna säsong också kan se i musikalen Crazy for you. GöteborgsOperans Orkester spelar under ledning av Mika Eichenholz. \nEfter konserten förvandlas Stora scenen till en vackert dekorerad balsal. Där bjuder först GöteborgsOperans Wienerkapell upp till dans\, för att sedan lämna över taktpinnen till Stardust Big Swing Band med gästartister.  \nI dansens virvlar syns frackar\, smokingar\, hellånga sidenklänningar\, svarta fodral och kiltar – klä dig i det du tycker är vackert! \nDu väljer själv om du vill toppa kvällen med någonting gott från våra menyer. À la carte-restaurangen serverar trerätters\, i OperaBaren står en välsmakande buffé uppdukad och i våra caféer kan du handla allt från drycker och smörgåsar till kaffe och bakverk. För dig som vill fortsätta röra dig även när du äter är kvällens mingeltallrik ett gott val. De flesta alternativen måste förbokas\, och vi rekommenderar dig att göra det i god tid” \nBiljetter bokas via växeln (se telefon) eller på www.biljettforum.se
URL:https://www.smokeringssisters.se/event/trettondagskonsert-med-bal-goteborgsoperan-med-stardust-big-swing-band-goteborg/
LOCATION:Göteborgsoperan\, Christina Nilssons Gata\, Göteborg\, 411 04\, Sverige
CATEGORIES:Konsert,Publikt event
END:VEVENT
BEGIN:VEVENT
DTSTART;TZID=UTC:20151231T190000
DTEND;TZID=UTC:20160101T020000
DTSTAMP:20260424T175019
CREATED:20151027T140215Z
LAST-MODIFIED:20151226T104102Z
UID:1415-1451588400-1451613600@www.smokeringssisters.se
SUMMARY:Nyårssupé på Dorsia\, Göteborg
DESCRIPTION:Vi gör det igen!!! \nNyårsraketerna sprakar\, den kalla vinterluften är krispig och inne på Dorsia flödar champagnen\, skratten bubblar\, maten är gudomlig och det är återigen dags för Smoke Rings Sisters att sätta guldkant på nyårsafton 2015/2016! Och DU är naturligtvis där med dina nära och kära eller kanske med den där speciella personen som du vill fira in det nya året med!  \nEfter förra årets succé växlar vi upp ännu en växel och bjuder tillsammans med extravaganta Dorsia på en nyårsafton du sent kommer glömma. Ta med skor för ett hejdundrande dansgolv efter middagen! Allt i andan av svunna tider då musik\, dans och sång betydde FEST!!
URL:https://www.smokeringssisters.se/event/nyarskaramell-pa-dorsia-goteborg/
LOCATION:Namnlös plats\, TRÄDGÅRDSGATAN 6\, Göteborg\, Sverige
CATEGORIES:Restaurang,Uppträdande
ORGANIZER;CN="Dorsia":MAILTO:reservation@dorsia.se
END:VEVENT
END:VCALENDAR